BEGIN:VCALENDAR
VERSION:2.0
PRODID:-//English in Margate - ECPv4.6.12//NONSGML v1.0//EN
CALSCALE:GREGORIAN
METHOD:PUBLISH
X-WR-CALNAME:English in Margate
X-ORIGINAL-URL:https://englishinmargate.com
X-WR-CALDESC:Events for English in Margate
BEGIN:VEVENT
DTSTART;TZID=Europe/London:20180831T123000
DTEND;TZID=Europe/London:20180831T173000
DTSTAMP:20260424T140553
CREATED:20170505T155048Z
LAST-MODIFIED:20180817T132530Z
UID:9325-1535718600-1535736600@englishinmargate.com
SUMMARY:Broadstairs Trip
DESCRIPTION:Catch the bus with our activity leader over to the neighboring town of Broadstairs. See where Charles Dickens lived and wrote his most famous novels\, have a freshly-made ice cream at Morelli’s and walk along the cliff top before returning back to Margate. \n
URL:https://englishinmargate.com/event/broadstairs-trip-14/2018-08-31/
LOCATION:Broadstairs\, Broadstairs\, United Kingdom
GEO:51.359576;1.43707
X-APPLE-STRUCTURED-LOCATION;VALUE=URI;X-ADDRESS=Broadstairs Broadstairs United Kingdom;X-APPLE-RADIUS=500;X-TITLE=Broadstairs:geo:1.43707,51.359576
CATEGORIES:School Trips
ATTACH;FMTTYPE=image/jpeg:https://englishinmargate.com/wp-content/uploads/2015/02/Broadstairs.jpg
END:VEVENT
END:VCALENDAR