BEGIN:VCALENDAR
VERSION:2.0
PRODID:-//English in Margate - ECPv4.6.12//NONSGML v1.0//EN
CALSCALE:GREGORIAN
METHOD:PUBLISH
X-WR-CALNAME:English in Margate
X-ORIGINAL-URL:https://englishinmargate.com
X-WR-CALDESC:Events for English in Margate
BEGIN:VEVENT
DTSTART;VALUE=DATE:20180928
DTEND;VALUE=DATE:20181001
DTSTAMP:20260424T135753
CREATED:20180517T153855Z
LAST-MODIFIED:20180517T153945Z
UID:12980-1538092800-1538351999@englishinmargate.com
SUMMARY:By The Sea  Festival
DESCRIPTION:By The Sea is an indie and alternative rock music festival at Dreamland: Margate’s iconic amusement park. \nIts lineup is made up of a mix of big-name headliners – think Foals and The Libertines – alongside smaller\, underground artists making their way into the scene. \nThis platform not only gives these artists a huge leg-up\, but also makes By The Sea a great festival for discovering new and emerging sounds. \n
URL:https://englishinmargate.com/event/by-the-sea-festival/
LOCATION:Marine Terrace\, Margate\, Kent \, Margate\, CT9 1XJ\, United Kingdom
GEO:51.3868079;1.3773042
X-APPLE-STRUCTURED-LOCATION;VALUE=URI;X-ADDRESS=Marine Terrace Margate Kent  Margate CT9 1XJ United Kingdom;X-APPLE-RADIUS=500;X-TITLE=Marine Terrace\, Margate\, Kent:geo:1.3773042,51.3868079
CATEGORIES:External Events
END:VEVENT
END:VCALENDAR