BEGIN:VCALENDAR
VERSION:2.0
PRODID:-//English in Margate - ECPv4.6.12//NONSGML v1.0//EN
CALSCALE:GREGORIAN
METHOD:PUBLISH
X-WR-CALNAME:English in Margate
X-ORIGINAL-URL:https://englishinmargate.com
X-WR-CALDESC:Events for English in Margate
BEGIN:VEVENT
DTSTART;TZID=Europe/London:20180811T080000
DTEND;TZID=Europe/London:20180811T190000
DTSTAMP:20260424T041431
CREATED:20150605T102244Z
LAST-MODIFIED:20180723T114239Z
UID:6880-1533974400-1534014000@englishinmargate.com
SUMMARY:Cambridge Trip
DESCRIPTION:Join one of our teacher for a full day excursion to Cambridge\, one of England’s two great university cities. Visit a wealth of galleries\, museums\, go shopping\, or just sit down with a coffee and enjoy the atmosphere. The Cambridge trip is often one of the highlights of our students stay here with us at EiM\, the mixture of a beautiful setting & an excellent tour guide and if your lucky good weather makes it the perfect day out. The trip costs just £30\, which represents stunning value\, so be sure to sign up. Students must pay by Wednesday or risk losing out. \n
URL:https://englishinmargate.com/event/cambridge-2/
LOCATION:Cambridge\, Cambridge\, United Kingdom
GEO:52.201776;0.1324319
X-APPLE-STRUCTURED-LOCATION;VALUE=URI;X-ADDRESS=Cambridge Cambridge United Kingdom;X-APPLE-RADIUS=500;X-TITLE=Cambridge:geo:0.1324319,52.201776
CATEGORIES:School Trips
ATTACH;FMTTYPE=image/jpeg:https://englishinmargate.com/wp-content/uploads/2015/02/Cambridge.jpg
END:VEVENT
END:VCALENDAR