BEGIN:VCALENDAR
VERSION:2.0
PRODID:-//English in Margate - ECPv4.6.12//NONSGML v1.0//EN
CALSCALE:GREGORIAN
METHOD:PUBLISH
X-WR-CALNAME:English in Margate
X-ORIGINAL-URL:https://englishinmargate.com
X-WR-CALDESC:Events for English in Margate
BEGIN:VEVENT
DTSTART;TZID=Europe/London:20181110T074500
DTEND;TZID=Europe/London:20181110T193000
DTSTAMP:20260424T053909
CREATED:20151023T140654Z
LAST-MODIFIED:20181107T163723Z
UID:7293-1541835900-1541878200@englishinmargate.com
SUMMARY:Cambridge
DESCRIPTION:Enjoy full day excursion to Cambridge\, with the king of the tours himself\, Robin. Cambridge is one of England’s two great university cities. Visit a wealth of galleries\, museums\, go shopping\, or just sit down with a coffee and enjoy the atmosphere. The minibus costs £30 and you must pay by Wednesday. \n
URL:https://englishinmargate.com/event/cambridge-3/2018-11-10/
LOCATION:Cambridge\, Cambridge\, United Kingdom
GEO:52.201776;0.1324319
X-APPLE-STRUCTURED-LOCATION;VALUE=URI;X-ADDRESS=Cambridge Cambridge United Kingdom;X-APPLE-RADIUS=500;X-TITLE=Cambridge:geo:0.1324319,52.201776
CATEGORIES:School Trips
END:VEVENT
END:VCALENDAR