BEGIN:VCALENDAR
VERSION:2.0
PRODID:-//English in Margate - ECPv4.6.12//NONSGML v1.0//EN
CALSCALE:GREGORIAN
METHOD:PUBLISH
X-WR-CALNAME:English in Margate
X-ORIGINAL-URL:https://englishinmargate.com
X-WR-CALDESC:Events for English in Margate
BEGIN:VEVENT
DTSTART;TZID=Europe/London:20190216T080000
DTEND;TZID=Europe/London:20190216T180000
DTSTAMP:20260424T042400
CREATED:20160126T164412Z
LAST-MODIFIED:20190124T115452Z
UID:7784-1550304000-1550340000@englishinmargate.com
SUMMARY:Cambridge Trip
DESCRIPTION:Enjoy full day excursion to Cambridge. It is one of England’s two great university cities. Visit a wealth of galleries\, museums\, go shopping\, or just sit down with a coffee and enjoy the atmosphere. The minibus costs £30 and you must pay by Wednesday. \n
URL:https://englishinmargate.com/event/canterbury-trip-13/2019-02-16/
LOCATION:Cambridge\, Cambridge\, United Kingdom
GEO:52.201776;0.1324319
X-APPLE-STRUCTURED-LOCATION;VALUE=URI;X-ADDRESS=Cambridge Cambridge United Kingdom;X-APPLE-RADIUS=500;X-TITLE=Cambridge:geo:0.1324319,52.201776
CATEGORIES:School Trips
ATTACH;FMTTYPE=image/jpeg:https://englishinmargate.com/wp-content/uploads/2015/02/Cambridge.jpg
END:VEVENT
END:VCALENDAR