BEGIN:VCALENDAR
VERSION:2.0
PRODID:-//English in Margate - ECPv4.6.12//NONSGML v1.0//EN
CALSCALE:GREGORIAN
METHOD:PUBLISH
X-WR-CALNAME:English in Margate
X-ORIGINAL-URL:https://englishinmargate.com
X-WR-CALDESC:Events for English in Margate
BEGIN:VEVENT
DTSTART;TZID=Europe/London:20190823T133000
DTEND;TZID=Europe/London:20190823T170000
DTSTAMP:20260423T221209
CREATED:20160707T100618Z
LAST-MODIFIED:20190530T144033Z
UID:8120-1566567000-1566579600@englishinmargate.com
SUMMARY:Canterbury trip
DESCRIPTION:Catch the train with a teacher to Canterbury for the afternoon! \nWith its famous cathedral\, universities\, castle\, museums and a great selection of shops\, there is always plenty to do. \nMeet at 13:30 outside the school. \n
URL:https://englishinmargate.com/event/canterbury-trip-21/2019-08-23/
LOCATION:canterbury\, kent\, United Kingdom
GEO:51.280233;1.0789089
CATEGORIES:School Trips
ATTACH;FMTTYPE=image/jpeg:https://englishinmargate.com/wp-content/uploads/2016/02/DSCN2375.jpg
END:VEVENT
END:VCALENDAR