BEGIN:VCALENDAR
VERSION:2.0
PRODID:-//English in Margate - ECPv4.6.12//NONSGML v1.0//EN
CALSCALE:GREGORIAN
METHOD:PUBLISH
X-WR-CALNAME:English in Margate
X-ORIGINAL-URL:https://englishinmargate.com
X-WR-CALDESC:Events for English in Margate
BEGIN:VEVENT
DTSTART;VALUE=DATE:20190503
DTEND;VALUE=DATE:20190506
DTSTAMP:20260424T042258
CREATED:20190426T091328Z
LAST-MODIFIED:20190426T091328Z
UID:63602-1556841600-1557100799@englishinmargate.com
SUMMARY:Caring in creepy 2019
DESCRIPTION:CARING IS CREEPY \n3RD – 5TH MAY 2019\nELSEWHERE\, MARGATE \nFULL LINE UP ANNOUNCED \nFRIDAY 3RD MAY\nBO NINGEN\naudiobooks\nTreeboy & Arc \n*SATURDAY 4TH MAY*\nFlamingods\nAlabaster dePlume\nPOZI\nOdette Peters \n– South Deal School + Good Name DJs – \n*SUNDAY 5th May*\nDu Blonde\nSquid\nKiran Leonard\nMargate Social Choir \nFull details and more DJs and activities to be announced soon. \n
URL:https://englishinmargate.com/event/caring-in-creepy-2019/
END:VEVENT
END:VCALENDAR