BEGIN:VCALENDAR
VERSION:2.0
PRODID:-//English in Margate - ECPv4.6.12//NONSGML v1.0//EN
CALSCALE:GREGORIAN
METHOD:PUBLISH
X-WR-CALNAME:English in Margate
X-ORIGINAL-URL:https://englishinmargate.com
X-WR-CALDESC:Events for English in Margate
BEGIN:VEVENT
DTSTART;TZID=Europe/London:20160622T200000
DTEND;TZID=Europe/London:20160622T220000
DTSTAMP:20260425T171616
CREATED:20160629T145405Z
LAST-MODIFIED:20160629T145405Z
UID:8111-1466625600-1466632800@englishinmargate.com
SUMMARY:Cinema Evening
DESCRIPTION:Tonight is a great opportunity for you to go to the cinema and enjoy the latest films. The Carlton Cinema at Westgate-on-Sea has different screens to choose from at a very reasonable price. Visit Reception to find about all of the films on offer. \n
URL:https://englishinmargate.com/event/cinema-evening-6/2016-06-22/
LOCATION:United Kingdom
CATEGORIES:External Events
ATTACH;FMTTYPE=image/png:https://englishinmargate.com/wp-content/uploads/2015/04/thumb_3979__media-gallery-image.png
END:VEVENT
END:VCALENDAR