BEGIN:VCALENDAR
VERSION:2.0
PRODID:-//English in Margate - ECPv4.6.12//NONSGML v1.0//EN
CALSCALE:GREGORIAN
METHOD:PUBLISH
X-WR-CALNAME:English in Margate
X-ORIGINAL-URL:https://englishinmargate.com
X-WR-CALDESC:Events for English in Margate
BEGIN:VEVENT
DTSTART;TZID=Europe/London:20191122T123000
DTEND;TZID=Europe/London:20191122T170000
DTSTAMP:20260423T201343
CREATED:20150812T084454Z
LAST-MODIFIED:20191112T152451Z
UID:7087-1574425800-1574442000@englishinmargate.com
SUMMARY:Coastal Walk\, Mini Golf\, Bowling
DESCRIPTION:
URL:https://englishinmargate.com/event/coastal-walk-mini-golf-bowling/2019-11-22/
LOCATION:United Kingdom
CATEGORIES:External Events
END:VEVENT
END:VCALENDAR