BEGIN:VCALENDAR
VERSION:2.0
PRODID:-//English in Margate - ECPv4.6.12//NONSGML v1.0//EN
CALSCALE:GREGORIAN
METHOD:PUBLISH
X-WR-CALNAME:English in Margate
X-ORIGINAL-URL:https://englishinmargate.com
X-WR-CALDESC:Events for English in Margate
BEGIN:VEVENT
DTSTART;TZID=Europe/London:20181025T200000
DTEND;TZID=Europe/London:20181025T220000
DTSTAMP:20260424T105614
CREATED:20170320T115912Z
LAST-MODIFIED:20181024T092217Z
UID:8845-1540497600-1540504800@englishinmargate.com
SUMMARY:International Food Evening
DESCRIPTION:Tonight\, the club will be open for what is easily the tastiest event of EiM’s social programme. It’s International Food Evening! This is a great chance to taste food from all over the world. Ask your host family for permission to cook in their kitchen\, prepare your favourite national or regional dish\, bring a snack and try the food that the other students have made. \n
URL:https://englishinmargate.com/event/international-food-evening-11/2018-10-25/
LOCATION:38 Hawley Square\, Margate\, Kent\, CT9 1LH\, United Kingdom
GEO:51.3862707;1.3829003
X-APPLE-STRUCTURED-LOCATION;VALUE=URI;X-ADDRESS=38 Hawley Square Margate Kent CT9 1LH United Kingdom;X-APPLE-RADIUS=500;X-TITLE=38 Hawley Square:geo:1.3829003,51.3862707
CATEGORIES:Hawley Club
ATTACH;FMTTYPE=image/jpeg:https://englishinmargate.com/wp-content/uploads/2017/03/int-food-eve-january5.jpg
END:VEVENT
END:VCALENDAR