BEGIN:VCALENDAR
VERSION:2.0
PRODID:-//English in Margate - ECPv4.6.12//NONSGML v1.0//EN
CALSCALE:GREGORIAN
METHOD:PUBLISH
X-WR-CALNAME:English in Margate
X-ORIGINAL-URL:https://englishinmargate.com
X-WR-CALDESC:Events for English in Margate
BEGIN:VEVENT
DTSTART;TZID=Europe/London:20190221T200000
DTEND;TZID=Europe/London:20190221T220000
DTSTAMP:20260424T072814
CREATED:20151007T111835Z
LAST-MODIFIED:20190218T151802Z
UID:7172-1550779200-1550786400@englishinmargate.com
SUMMARY:International food evening
DESCRIPTION:This Thursday is everybody’s favourite evening\, INTERNATIONAL FOOD PARTY! \nCome to our International Food Evening 20:00 to 22:00h.\nThis is a great chance to taste food from all over the world. Cook your favourite national dish\, bring a snack and try the food that the other students have made. \n
URL:https://englishinmargate.com/event/international-food-evening-3/
LOCATION:United Kingdom
CATEGORIES:Hawley Club
ATTACH;FMTTYPE=image/jpeg:https://englishinmargate.com/wp-content/uploads/2019/02/International-Food-Evening.jpg
END:VEVENT
END:VCALENDAR