BEGIN:VCALENDAR
VERSION:2.0
PRODID:-//English in Margate - ECPv4.6.12//NONSGML v1.0//EN
CALSCALE:GREGORIAN
METHOD:PUBLISH
X-WR-CALNAME:English in Margate
X-ORIGINAL-URL:https://englishinmargate.com
X-WR-CALDESC:Events for English in Margate
BEGIN:VEVENT
DTSTART;TZID=Europe/London:20190824T090000
DTEND;TZID=Europe/London:20190824T193000
DTSTAMP:20260423T220939
CREATED:20160629T145206Z
LAST-MODIFIED:20190530T152445Z
UID:8110-1566637200-1566675000@englishinmargate.com
SUMMARY:London South Trip
DESCRIPTION:Let’s discover the South of London\, you can’t miss out its famous St. Pauls Cathedral. \nVisit London’s medieval castle\, cross the river over London’s most iconic bridge and come for walk down the Thames’ most picturesque bank. \nSign up at reception! \n
URL:https://englishinmargate.com/event/london-trip-13/2019-08-24/
LOCATION:London\, London\, United Kingdom
GEO:51.5073509;-0.1277583
X-APPLE-STRUCTURED-LOCATION;VALUE=URI;X-ADDRESS=London London United Kingdom;X-APPLE-RADIUS=500;X-TITLE=London:geo:-0.1277583,51.5073509
CATEGORIES:School Trips
ATTACH;FMTTYPE=image/jpeg:https://englishinmargate.com/wp-content/uploads/2015/02/London.jpg
END:VEVENT
END:VCALENDAR