BEGIN:VCALENDAR
VERSION:2.0
PRODID:-//English in Margate - ECPv4.6.12//NONSGML v1.0//EN
CALSCALE:GREGORIAN
METHOD:PUBLISH
X-WR-CALNAME:English in Margate
X-ORIGINAL-URL:https://englishinmargate.com
X-WR-CALDESC:Events for English in Margate
BEGIN:VEVENT
DTSTART;VALUE=DATE:20190420
DTEND;VALUE=DATE:20190429
DTSTAMP:20260424T042238
CREATED:20181024T120031Z
LAST-MODIFIED:20190426T152723Z
UID:13321-1555718400-1556495999@englishinmargate.com
SUMMARY:Looping the Loop Festival 2019
DESCRIPTION:Looping the Loop is a festival of live arts in the three towns of Ramsgate\, Margate and  Broadstairs in Thanet on the East Kent coast. \nWe run a programme that has two live Performance Festivals with bespoke year-round activities. We support local artists in developing and presenting new performance works and also offer cheap and free theatre making and production workshops and talks (Loop & Learn) suitable for people of all ages\, skills and experiences. \nLooping the Loop is part of the Collaborative Touring Network\, a partnership between nine towns and theatre promoters across the UK. We present a combination of acclaimed productions from Battersea Arts Centre\, in London and locally produced shows. \n
URL:https://englishinmargate.com/event/looping-the-loop-festival-2018/
CATEGORIES:External Events
END:VEVENT
END:VCALENDAR