BEGIN:VCALENDAR
VERSION:2.0
PRODID:-//English in Margate - ECPv4.6.12//NONSGML v1.0//EN
CALSCALE:GREGORIAN
METHOD:PUBLISH
X-WR-CALNAME:English in Margate
X-ORIGINAL-URL:https://englishinmargate.com
X-WR-CALDESC:Events for English in Margate
BEGIN:VEVENT
DTSTART;TZID=Europe/London:20181116T160000
DTEND;TZID=Europe/London:20181116T183000
DTSTAMP:20260424T103017
CREATED:20151123T132434Z
LAST-MODIFIED:20181024T115621Z
UID:7396-1542384000-1542393000@englishinmargate.com
SUMMARY:Christmas at Westwood Cross
DESCRIPTION:Westwood Cross has announced its annual Christmas Lights Switch on event for Friday 16th November from 4pm. \nLoved by locals\, the free event is expected to attract thousands of visitors. \nThe popular shopping centre will officially launch the season in style\, revealing the stunning new Christmas lights display and spectacular Toy Fort Grotto with its six meter high turrets. \nThe show starts at 4pm with the all-important switch on at 6pm and entertainment will continue until 6.30pm. \nThis year the line-up features popular Abba tribute band\, Björn Again and Tyber\, lead singer of The Dualers. Joining them on stage will be the ‘Westwood Cross Young Performer of the Year’\, 11 year old Mabel Walton as well as other talented musicians and local entertainers. \n
URL:https://englishinmargate.com/event/magical-margate/2018-11-16/
CATEGORIES:External Events
ATTACH;FMTTYPE=image/jpeg:https://englishinmargate.com/wp-content/uploads/2015/11/Magical-Margate.jpeg
ORGANIZER;CN="Elena%20Jimenez":MAILTO:elena.jimenez@leolanguages.com
END:VEVENT
END:VCALENDAR