BEGIN:VCALENDAR
VERSION:2.0
PRODID:-//English in Margate - ECPv4.6.12//NONSGML v1.0//EN
CALSCALE:GREGORIAN
METHOD:PUBLISH
X-WR-CALNAME:English in Margate
X-ORIGINAL-URL:https://englishinmargate.com
X-WR-CALDESC:Events for English in Margate
BEGIN:VEVENT
DTSTART;TZID=Europe/London:20180528T233000
DTEND;TZID=Europe/London:20180528T233000
DTSTAMP:20260424T172631
CREATED:20161209T105158Z
LAST-MODIFIED:20180517T134601Z
UID:11422-1527550200-1527550200@englishinmargate.com
SUMMARY:Thanet Tour
DESCRIPTION:This bank holiday catch the bus with a teacher to do the Thanet Tour\, Margate\, Broadstairs and Ramsgate. In the Isle of Thanet you’ll discover a rejuvenated theme park\, reinvented economies and a reimagined arts and culture scene. On the Isle of Thanet 15 sandy beaches and bays and a string of pretty villages link Georgian and Victorian resorts. \n
URL:https://englishinmargate.com/event/monday-night-welcome-evening-2-2018-05-28/
LOCATION:Thanet\, Thanet\, Kent\, United Kingdom
GEO:51.336651;1.314436
X-APPLE-STRUCTURED-LOCATION;VALUE=URI;X-ADDRESS=Thanet Thanet Kent United Kingdom;X-APPLE-RADIUS=500;X-TITLE=Thanet:geo:1.314436,51.336651
CATEGORIES:Hawley Club
ATTACH;FMTTYPE=image/jpeg:https://englishinmargate.com/wp-content/uploads/2016/12/14963666_10209404844172397_507502980_o.jpg
END:VEVENT
END:VCALENDAR