BEGIN:VCALENDAR
VERSION:2.0
PRODID:-//English in Margate - ECPv4.6.12//NONSGML v1.0//EN
CALSCALE:GREGORIAN
METHOD:PUBLISH
X-WR-CALNAME:English in Margate
X-ORIGINAL-URL:https://englishinmargate.com
X-WR-CALDESC:Events for English in Margate
BEGIN:VEVENT
DTSTART;TZID=Europe/London:20190422T100000
DTEND;TZID=Europe/London:20190422T180000
DTSTAMP:20260424T042400
CREATED:20161209T105158Z
LAST-MODIFIED:20190322T102502Z
UID:11513-1555927200-1555956000@englishinmargate.com
SUMMARY:Bank Holiday Canterbury Trip
DESCRIPTION:Today is bank holiday which means the school is closed\, but there is a trip organised to Canterbury. Come along accompanied by a teacher. With its famous cathedral\, universities\, castle\, museums and a great selection of shops there is always plenty to do. \n
URL:https://englishinmargate.com/event/monday-night-welcome-evening-2-2018-08-27/
CATEGORIES:Hawley Club
ATTACH;FMTTYPE=image/jpeg:https://englishinmargate.com/wp-content/uploads/2015/02/Canterbury.jpg
END:VEVENT
END:VCALENDAR