BEGIN:VCALENDAR
VERSION:2.0
PRODID:-//English in Margate - ECPv4.6.12//NONSGML v1.0//EN
CALSCALE:GREGORIAN
METHOD:PUBLISH
X-WR-CALNAME:English in Margate
X-ORIGINAL-URL:https://englishinmargate.com
X-WR-CALDESC:Events for English in Margate
BEGIN:VEVENT
DTSTART;TZID=Europe/London:20190412T123000
DTEND;TZID=Europe/London:20190412T170000
DTSTAMP:20260424T055001
CREATED:20150429T081925Z
LAST-MODIFIED:20190322T101442Z
UID:6685-1555072200-1555088400@englishinmargate.com
SUMMARY:Coastal Cycle
DESCRIPTION:Join Elena for a coastal cycle by the seafront. Starting at 12.30 from the school\, just after class. Students will cycle until Reculver\, potentially stopping for a coffee on the way. Bike rental costs just £12 with our exclusive EiM discount. \n
URL:https://englishinmargate.com/event/oxford-trip/2019-04-12/
CATEGORIES:School Trips
ATTACH;FMTTYPE=image/jpeg:https://englishinmargate.com/wp-content/uploads/2015/03/24.JPG
END:VEVENT
END:VCALENDAR