BEGIN:VCALENDAR
VERSION:2.0
PRODID:-//English in Margate - ECPv4.6.12//NONSGML v1.0//EN
CALSCALE:GREGORIAN
METHOD:PUBLISH
X-WR-CALNAME:English in Margate
X-ORIGINAL-URL:https://englishinmargate.com
X-WR-CALDESC:Events for English in Margate
BEGIN:VEVENT
DTSTART;TZID=Europe/London:20180505T080000
DTEND;TZID=Europe/London:20180505T190000
DTSTAMP:20260424T184418
CREATED:20150605T085601Z
LAST-MODIFIED:20180503T160921Z
UID:6874-1525507200-1525546800@englishinmargate.com
SUMMARY:Oxford Trip
DESCRIPTION:Take the coach with Robin to the famous city of Oxford. There is so much to see in this historic city\, from the world renowned University colleges to The Eagle and Child pub where famous JR Tolkien and CS Lewis drank. \n
URL:https://englishinmargate.com/event/oxford/2018-05-05/
LOCATION:Oxford\, Oxford\, United Kingdom
GEO:51.7520209;-1.2577263
X-APPLE-STRUCTURED-LOCATION;VALUE=URI;X-ADDRESS=Oxford Oxford United Kingdom;X-APPLE-RADIUS=500;X-TITLE=Oxford:geo:-1.2577263,51.7520209
CATEGORIES:School Trips
ATTACH;FMTTYPE=image/jpeg:https://englishinmargate.com/wp-content/uploads/2015/02/Oxford.jpg
END:VEVENT
END:VCALENDAR