BEGIN:VCALENDAR
VERSION:2.0
PRODID:-//English in Margate - ECPv4.6.12//NONSGML v1.0//EN
CALSCALE:GREGORIAN
METHOD:PUBLISH
X-WR-CALNAME:English in Margate
X-ORIGINAL-URL:https://englishinmargate.com
X-WR-CALDESC:Events for English in Margate
BEGIN:VEVENT
DTSTART;TZID=Europe/London:20191123T130000
DTEND;TZID=Europe/London:20191123T170000
DTSTAMP:20260423T203631
CREATED:20190307T101624Z
LAST-MODIFIED:20191112T150213Z
UID:58092-1574514000-1574528400@englishinmargate.com
SUMMARY:Paintballing at Quex Park
DESCRIPTION:How about trying something exciting? \nPaintball is great fun to end up the week with lots of energy. \nSign up at reception and ask there if you have any questions. \n
URL:https://englishinmargate.com/event/paintballing-at-quex-park/
ATTACH;FMTTYPE=image/jpeg:https://englishinmargate.com/wp-content/uploads/2019/03/NCLD0699.jpg
END:VEVENT
END:VCALENDAR