BEGIN:VCALENDAR
VERSION:2.0
PRODID:-//English in Margate - ECPv4.6.12//NONSGML v1.0//EN
CALSCALE:GREGORIAN
METHOD:PUBLISH
X-WR-CALNAME:English in Margate
X-ORIGINAL-URL:https://englishinmargate.com
X-WR-CALDESC:Events for English in Margate
BEGIN:VEVENT
DTSTART;VALUE=DATE:20190308
DTEND;VALUE=DATE:20190318
DTSTAMP:20260424T072754
CREATED:20190307T103025Z
LAST-MODIFIED:20190307T103025Z
UID:58132-1552003200-1552867199@englishinmargate.com
SUMMARY:POW Festival in Thanet
DESCRIPTION:POW! Power of Women! is a festival of Arts and Culture\ncelebrating and exploring issues around Feminism\, Women and Girls.\n\nFind out more at https://www.powthanet.com/ \n  \n\n
URL:https://englishinmargate.com/event/pow-festival-in-thanet/
END:VEVENT
END:VCALENDAR