BEGIN:VCALENDAR
VERSION:2.0
PRODID:-//English in Margate - ECPv4.6.12//NONSGML v1.0//EN
CALSCALE:GREGORIAN
METHOD:PUBLISH
X-WR-CALNAME:English in Margate
X-ORIGINAL-URL:https://englishinmargate.com
X-WR-CALDESC:Events for English in Margate
BEGIN:VEVENT
DTSTART;TZID=Europe/London:20180727T123000
DTEND;TZID=Europe/London:20180727T170000
DTSTAMP:20260424T153801
CREATED:20160321T120138Z
LAST-MODIFIED:20180614T161618Z
UID:7936-1532694600-1532710800@englishinmargate.com
SUMMARY:Quex Park Excursion
DESCRIPTION:The Powell-Cotton Museum at Quex Park was established in 1896 by Percy Horace Gordon Powell-Cotton (1866-1940) to house natural history specimens\nand cultural objects collected on expeditions to Asia and Africa. \n
URL:https://englishinmargate.com/event/quex-park-excursion/2018-07-27/
CATEGORIES:School Trips
ATTACH;FMTTYPE=image/jpeg:https://englishinmargate.com/wp-content/uploads/2015/03/Quex-1.jpg
END:VEVENT
END:VCALENDAR