BEGIN:VCALENDAR
VERSION:2.0
PRODID:-//English in Margate - ECPv4.6.12//NONSGML v1.0//EN
CALSCALE:GREGORIAN
METHOD:PUBLISH
X-WR-CALNAME:English in Margate
X-ORIGINAL-URL:https://englishinmargate.com
X-WR-CALDESC:Events for English in Margate
BEGIN:VEVENT
DTSTART;TZID=Europe/London:20180525T130000
DTEND;TZID=Europe/London:20180525T173000
DTSTAMP:20260424T184412
CREATED:20160827T140018Z
LAST-MODIFIED:20180510T140410Z
UID:8254-1527253200-1527269400@englishinmargate.com
SUMMARY:Quex Park Trip
DESCRIPTION:Quex Park has an array of attractions including a museum of stuffed animals and asian artifacts\, adventure golf\, a maze\, a secret garden\, activity centre\, craft village as well as cafes and restaurants. There is something for everyone! \n
URL:https://englishinmargate.com/event/quex-park-trip/2018-05-25/
CATEGORIES:School Trips
ATTACH;FMTTYPE=image/jpeg:https://englishinmargate.com/wp-content/uploads/2015/03/Quex-1.jpg
END:VEVENT
END:VCALENDAR