BEGIN:VCALENDAR
VERSION:2.0
PRODID:-//English in Margate - ECPv4.6.12//NONSGML v1.0//EN
CALSCALE:GREGORIAN
METHOD:PUBLISH
X-WR-CALNAME:English in Margate
X-ORIGINAL-URL:https://englishinmargate.com
X-WR-CALDESC:Events for English in Margate
BEGIN:VEVENT
DTSTART;TZID=Europe/London:20181026T010000
DTEND;TZID=Europe/London:20181026T170000
DTSTAMP:20260424T120821
CREATED:20150625T142453Z
LAST-MODIFIED:20181002T134448Z
UID:6948-1540515600-1540573200@englishinmargate.com
SUMMARY:Ramsgate
DESCRIPTION:Catch the train with a teacher and visit Ramsgate with Robin. Enjoy the famous harbor and marvelous marina views. See where Vincent Van gogh lived and see why our students call Robin the ‘king of tours’. why not sample some seafood\, coffee or Peter’s Fish Factory for award winning Fish & Chips. \n
URL:https://englishinmargate.com/event/ramsgate/2018-10-26/
LOCATION:Ramsgate\, Kent\, CT11\, United Kingdom
GEO:51.3332716;1.4131079
CATEGORIES:School Trips
ATTACH;FMTTYPE=image/jpeg:https://englishinmargate.com/wp-content/uploads/2015/03/221.jpg
END:VEVENT
END:VCALENDAR