BEGIN:VCALENDAR
VERSION:2.0
PRODID:-//English in Margate - ECPv4.6.12//NONSGML v1.0//EN
CALSCALE:GREGORIAN
METHOD:PUBLISH
X-WR-CALNAME:English in Margate
X-ORIGINAL-URL:https://englishinmargate.com
X-WR-CALDESC:Events for English in Margate
BEGIN:VEVENT
DTSTART;VALUE=DATE:20180706
DTEND;VALUE=DATE:20180709
DTSTAMP:20260424T170641
CREATED:20150512T101232Z
LAST-MODIFIED:20180625T095140Z
UID:6747-1530835200-1531094399@englishinmargate.com
SUMMARY:Skagate Festival
DESCRIPTION:A festival to celebrate the historical connection of Margate to the British skinhead subculture and its relationship with the late 50s Jamaican music genre\, ska \n
URL:https://englishinmargate.com/event/skagate/
LOCATION:3-5 King Street\, Margate\, United Kingdom
GEO:51.390234;1.38184
X-APPLE-STRUCTURED-LOCATION;VALUE=URI;X-ADDRESS=3-5 King Street Margate United Kingdom;X-APPLE-RADIUS=500;X-TITLE=3-5 King Street:geo:1.38184,51.390234
CATEGORIES:External Events,Pub Events
ATTACH;FMTTYPE=image/png:https://englishinmargate.com/wp-content/uploads/2015/04/the-wig-and-pen.PNG
END:VEVENT
END:VCALENDAR