BEGIN:VCALENDAR
VERSION:2.0
PRODID:-//English in Margate - ECPv4.6.12//NONSGML v1.0//EN
CALSCALE:GREGORIAN
METHOD:PUBLISH
X-WR-CALNAME:English in Margate
X-ORIGINAL-URL:https://englishinmargate.com
X-WR-CALDESC:Events for English in Margate
BEGIN:VEVENT
DTSTART;TZID=Europe/London:20181027T080000
DTEND;TZID=Europe/London:20181027T170000
DTSTAMP:20260424T105314
CREATED:20171201T102429Z
LAST-MODIFIED:20181002T134654Z
UID:9759-1540627200-1540659600@englishinmargate.com
SUMMARY:Unaccompanied Trip
DESCRIPTION:Unaccompanied – see Elena at reception and he is happy to help you organise your own trip – London\, Dover Castle\, Rochester or Canterbury \n
URL:https://englishinmargate.com/event/unaccompanied-trip-2/2018-10-27/
LOCATION:United Kingdom
CATEGORIES:School Trips
END:VEVENT
END:VCALENDAR