BEGIN:VCALENDAR
VERSION:2.0
PRODID:-//English in Margate - ECPv4.6.12//NONSGML v1.0//EN
CALSCALE:GREGORIAN
METHOD:PUBLISH
X-WR-CALNAME:English in Margate
X-ORIGINAL-URL:https://englishinmargate.com
X-WR-CALDESC:Events for English in Margate
BEGIN:VEVENT
DTSTART;TZID=Europe/London:20180901T080000
DTEND;TZID=Europe/London:20180901T170000
DTSTAMP:20260424T140640
CREATED:20171201T103239Z
LAST-MODIFIED:20180817T132719Z
UID:9761-1535788800-1535821200@englishinmargate.com
SUMMARY:Unaccompanied Trip
DESCRIPTION:Unaccompanied – see Elena at reception and she is happy to help you to organise your own trip to Rochester \n
URL:https://englishinmargate.com/event/unaccompanied-trip-3/2018-09-01/
LOCATION:United Kingdom
CATEGORIES:School Trips
END:VEVENT
END:VCALENDAR