BEGIN:VCALENDAR
VERSION:2.0
PRODID:-//English in Margate - ECPv4.6.12//NONSGML v1.0//EN
CALSCALE:GREGORIAN
METHOD:PUBLISH
X-WR-CALNAME:English in Margate
X-ORIGINAL-URL:https://englishinmargate.com
X-WR-CALDESC:Events for English in Margate
BEGIN:VEVENT
DTSTART;TZID=Europe/London:20190309T080000
DTEND;TZID=Europe/London:20190309T080000
DTSTAMP:20260424T071401
CREATED:20171201T125229Z
LAST-MODIFIED:20190214T101508Z
UID:9764-1552118400-1552118400@englishinmargate.com
SUMMARY:Unaccompanied Trip
DESCRIPTION:Unaccompanied – see Elena at reception and she is happy to help you organise your own trip – London\, Dover Castle\, Rochester or Canterbury \n
URL:https://englishinmargate.com/event/unaccompanied-trip-5/2019-03-09/
LOCATION:United Kingdom
CATEGORIES:School Trips
END:VEVENT
END:VCALENDAR