BEGIN:VCALENDAR
VERSION:2.0
PRODID:-//English in Margate - ECPv4.6.12//NONSGML v1.0//EN
CALSCALE:GREGORIAN
METHOD:PUBLISH
X-WR-CALNAME:English in Margate
X-ORIGINAL-URL:https://englishinmargate.com
X-WR-CALDESC:Events for English in Margate
BEGIN:VEVENT
DTSTART;TZID=Europe/London:20190406T080000
DTEND;TZID=Europe/London:20190406T170000
DTSTAMP:20260424T054754
CREATED:20180117T125212Z
LAST-MODIFIED:20190322T100956Z
UID:9912-1554537600-1554570000@englishinmargate.com
SUMMARY:Unaccompanied Trip
DESCRIPTION:Unaccompanied trip – see Elena at reception and she is happy to help you organise your own trip to Rochester \n
URL:https://englishinmargate.com/event/unaccompanied-trip-6/
LOCATION:United Kingdom
CATEGORIES:School Trips
ATTACH;FMTTYPE=image/jpeg:https://englishinmargate.com/wp-content/uploads/2017/02/Rochester-Cathedral-picture-from-Julian.jpg
END:VEVENT
END:VCALENDAR