BEGIN:VCALENDAR
VERSION:2.0
PRODID:-//English in Margate - ECPv4.6.12//NONSGML v1.0//EN
CALSCALE:GREGORIAN
METHOD:PUBLISH
X-WR-CALNAME:English in Margate
X-ORIGINAL-URL:https://englishinmargate.com
X-WR-CALDESC:Events for English in Margate
BEGIN:VEVENT
DTSTART;TZID=Europe/London:20180706T123000
DTEND;TZID=Europe/London:20180706T170000
DTSTAMP:20260424T182855
CREATED:20150826T081105Z
LAST-MODIFIED:20180614T160527Z
UID:7138-1530880200-1530896400@englishinmargate.com
SUMMARY:Whitstable Trip
DESCRIPTION:Catch the train with a teacher and visit Whitstable. Known as the ‘Pearl of Kent’\, Whitstable is famous for its oysters\, which have been collected in the area since as far back as Roman times. Whitstable’s distinctive character is popular with tourists looking for a great meal\, walk or pub. \n
URL:https://englishinmargate.com/event/whitstable-trip-5/2018-07-06/
LOCATION:Whitstable\, Kent\, CT5\, United Kingdom
GEO:51.361047;1.024256
X-APPLE-STRUCTURED-LOCATION;VALUE=URI;X-ADDRESS=Whitstable Kent CT5 United Kingdom;X-APPLE-RADIUS=500;X-TITLE=Whitstable:geo:1.024256,51.361047
CATEGORIES:School Trips
ORGANIZER;CN="Elena%20Jimenez":MAILTO:elena.jimenez@leolanguages.com
END:VEVENT
END:VCALENDAR